BEGIN:VCALENDAR
VERSION:2.0
PRODID:-//Boulder MQG - ECPv6.15.13//NONSGML v1.0//EN
CALSCALE:GREGORIAN
METHOD:PUBLISH
X-WR-CALNAME:Boulder MQG
X-ORIGINAL-URL:https://bouldermqg.com
X-WR-CALDESC:Events for Boulder MQG
REFRESH-INTERVAL;VALUE=DURATION:PT1H
X-Robots-Tag:noindex
X-PUBLISHED-TTL:PT1H
BEGIN:VTIMEZONE
TZID:America/Denver
BEGIN:DAYLIGHT
TZOFFSETFROM:-0700
TZOFFSETTO:-0600
TZNAME:MDT
DTSTART:20250309T090000
END:DAYLIGHT
BEGIN:STANDARD
TZOFFSETFROM:-0600
TZOFFSETTO:-0700
TZNAME:MST
DTSTART:20251102T080000
END:STANDARD
BEGIN:DAYLIGHT
TZOFFSETFROM:-0700
TZOFFSETTO:-0600
TZNAME:MDT
DTSTART:20260308T090000
END:DAYLIGHT
BEGIN:STANDARD
TZOFFSETFROM:-0600
TZOFFSETTO:-0700
TZNAME:MST
DTSTART:20261101T080000
END:STANDARD
BEGIN:DAYLIGHT
TZOFFSETFROM:-0700
TZOFFSETTO:-0600
TZNAME:MDT
DTSTART:20270314T090000
END:DAYLIGHT
BEGIN:STANDARD
TZOFFSETFROM:-0600
TZOFFSETTO:-0700
TZNAME:MST
DTSTART:20271107T080000
END:STANDARD
END:VTIMEZONE
BEGIN:VEVENT
DTSTART;TZID=America/Denver:20260507T180000
DTEND;TZID=America/Denver:20260507T203000
DTSTAMP:20260423T055042
CREATED:20251120T233501Z
LAST-MODIFIED:20251120T233501Z
UID:5014-1778176800-1778185800@bouldermqg.com
SUMMARY:May 2026 Evening Meeting
DESCRIPTION:
URL:https://bouldermqg.com/event/may-2026-evening-meeting/
LOCATION:Superior Station 5\, 2701 S. Indiana St\, Superior\, CO\, 80027\, United States
CATEGORIES:Evening Meeting
END:VEVENT
BEGIN:VEVENT
DTSTART;TZID=America/Denver:20260517T100000
DTEND;TZID=America/Denver:20260517T160000
DTSTAMP:20260423T055042
CREATED:20251121T015408Z
LAST-MODIFIED:20251121T015408Z
UID:5044-1779012000-1779033600@bouldermqg.com
SUMMARY:May 2026 Open Sew
DESCRIPTION:
URL:https://bouldermqg.com/event/may-2026-open-sew/
LOCATION:Sister Carmen Community Center\, 655 Aspen Ridge Ave\, Lafayette\, CO\, 80026\, United States
CATEGORIES:Open Sew
END:VEVENT
BEGIN:VEVENT
DTSTART;TZID=America/Denver:20260604T180000
DTEND;TZID=America/Denver:20260604T203000
DTSTAMP:20260423T055042
CREATED:20251120T233538Z
LAST-MODIFIED:20251120T233538Z
UID:5016-1780596000-1780605000@bouldermqg.com
SUMMARY:June 2026 Evening Meeting
DESCRIPTION:
URL:https://bouldermqg.com/event/june-2026-evening-meeting/
LOCATION:Superior Station 5\, 2701 S. Indiana St\, Superior\, CO\, 80027\, United States
CATEGORIES:Evening Meeting
END:VEVENT
BEGIN:VEVENT
DTSTART;TZID=America/Denver:20260621T100000
DTEND;TZID=America/Denver:20260621T160000
DTSTAMP:20260423T055042
CREATED:20251121T015455Z
LAST-MODIFIED:20251121T015455Z
UID:5046-1782036000-1782057600@bouldermqg.com
SUMMARY:June 2026 Open Sew
DESCRIPTION:
URL:https://bouldermqg.com/event/june-2026-open-sew/
LOCATION:Sister Carmen Community Center\, 655 Aspen Ridge Ave\, Lafayette\, CO\, 80026\, United States
CATEGORIES:Open Sew
END:VEVENT
BEGIN:VEVENT
DTSTART;TZID=America/Denver:20260709T180000
DTEND;TZID=America/Denver:20260709T203000
DTSTAMP:20260423T055042
CREATED:20251120T233630Z
LAST-MODIFIED:20251120T234324Z
UID:5018-1783620000-1783629000@bouldermqg.com
SUMMARY:July 2026 Ice Cream Social
DESCRIPTION:
URL:https://bouldermqg.com/event/june-2026-ice-cream-social/
LOCATION:CO
CATEGORIES:Special Member Events
END:VEVENT
BEGIN:VEVENT
DTSTART;TZID=America/Denver:20260719T100000
DTEND;TZID=America/Denver:20260719T160000
DTSTAMP:20260423T055042
CREATED:20251121T015620Z
LAST-MODIFIED:20251121T015620Z
UID:5048-1784455200-1784476800@bouldermqg.com
SUMMARY:July 2026 Open Sew
DESCRIPTION:
URL:https://bouldermqg.com/event/july-2026-open-sew/
LOCATION:Sister Carmen Community Center\, 655 Aspen Ridge Ave\, Lafayette\, CO\, 80026\, United States
CATEGORIES:Open Sew
END:VEVENT
BEGIN:VEVENT
DTSTART;TZID=America/Denver:20260806T180000
DTEND;TZID=America/Denver:20260806T203000
DTSTAMP:20260423T055042
CREATED:20251120T233736Z
LAST-MODIFIED:20251120T233736Z
UID:5020-1786039200-1786048200@bouldermqg.com
SUMMARY:August 2026 Evening Meeting
DESCRIPTION:
URL:https://bouldermqg.com/event/august-2026-evening-meeting/
LOCATION:Superior Station 5\, 2701 S. Indiana St\, Superior\, CO\, 80027\, United States
CATEGORIES:Evening Meeting
END:VEVENT
BEGIN:VEVENT
DTSTART;TZID=America/Denver:20260816T100000
DTEND;TZID=America/Denver:20260816T160000
DTSTAMP:20260423T055042
CREATED:20251121T015931Z
LAST-MODIFIED:20251121T015931Z
UID:5050-1786874400-1786896000@bouldermqg.com
SUMMARY:August 2026 Open Sew
DESCRIPTION:
URL:https://bouldermqg.com/event/august-2026-open-sew/
LOCATION:Sister Carmen Community Center\, 655 Aspen Ridge Ave\, Lafayette\, CO\, 80026\, United States
CATEGORIES:Open Sew
END:VEVENT
BEGIN:VEVENT
DTSTART;TZID=America/Denver:20260903T180000
DTEND;TZID=America/Denver:20260903T203000
DTSTAMP:20260423T055042
CREATED:20251120T233839Z
LAST-MODIFIED:20251120T233839Z
UID:5023-1788458400-1788467400@bouldermqg.com
SUMMARY:September 2026 Evening Meeting
DESCRIPTION:
URL:https://bouldermqg.com/event/september-2026-evening-meeting/
LOCATION:Superior Station 5\, 2701 S. Indiana St\, Superior\, CO\, 80027\, United States
CATEGORIES:Evening Meeting
END:VEVENT
BEGIN:VEVENT
DTSTART;TZID=America/Denver:20260920T100000
DTEND;TZID=America/Denver:20260920T160000
DTSTAMP:20260423T055042
CREATED:20251121T020013Z
LAST-MODIFIED:20251121T020013Z
UID:5052-1789898400-1789920000@bouldermqg.com
SUMMARY:September 2026 Open Sew
DESCRIPTION:
URL:https://bouldermqg.com/event/september-2026-open-sew/
LOCATION:Sister Carmen Community Center\, 655 Aspen Ridge Ave\, Lafayette\, CO\, 80026\, United States
CATEGORIES:Open Sew
END:VEVENT
BEGIN:VEVENT
DTSTART;TZID=America/Denver:20261001T180000
DTEND;TZID=America/Denver:20261001T203000
DTSTAMP:20260423T055042
CREATED:20251120T233927Z
LAST-MODIFIED:20251120T233927Z
UID:5025-1790877600-1790886600@bouldermqg.com
SUMMARY:October 2026 Evening Meeting
DESCRIPTION:
URL:https://bouldermqg.com/event/october-2026-evening-meeting/
LOCATION:Superior Station 5\, 2701 S. Indiana St\, Superior\, CO\, 80027\, United States
CATEGORIES:Evening Meeting
END:VEVENT
BEGIN:VEVENT
DTSTART;TZID=America/Denver:20261018T100000
DTEND;TZID=America/Denver:20261018T160000
DTSTAMP:20260423T055042
CREATED:20251121T020302Z
LAST-MODIFIED:20251121T020302Z
UID:5054-1792317600-1792339200@bouldermqg.com
SUMMARY:October 2026 Open Sew
DESCRIPTION:
URL:https://bouldermqg.com/event/october-2026-open-sew/
LOCATION:Sister Carmen Community Center\, 655 Aspen Ridge Ave\, Lafayette\, CO\, 80026\, United States
CATEGORIES:Open Sew
END:VEVENT
BEGIN:VEVENT
DTSTART;TZID=America/Denver:20261105T180000
DTEND;TZID=America/Denver:20261105T203000
DTSTAMP:20260423T055042
CREATED:20251120T234007Z
LAST-MODIFIED:20251120T234007Z
UID:5027-1793901600-1793910600@bouldermqg.com
SUMMARY:November 2026 Evening Meeting
DESCRIPTION:
URL:https://bouldermqg.com/event/november-2026-evening-meeting/
LOCATION:Superior Station 5\, 2701 S. Indiana St\, Superior\, CO\, 80027\, United States
CATEGORIES:Evening Meeting
END:VEVENT
BEGIN:VEVENT
DTSTART;TZID=America/Denver:20261203T180000
DTEND;TZID=America/Denver:20261203T203000
DTSTAMP:20260423T055042
CREATED:20251120T234038Z
LAST-MODIFIED:20251120T234250Z
UID:5029-1796320800-1796329800@bouldermqg.com
SUMMARY:2026 Holiday Party
DESCRIPTION:
URL:https://bouldermqg.com/event/2026-holiday-party/
LOCATION:CO
CATEGORIES:Special Member Events
END:VEVENT
BEGIN:VEVENT
DTSTART;TZID=America/Denver:20261213T100000
DTEND;TZID=America/Denver:20261213T160000
DTSTAMP:20260423T055042
CREATED:20251121T020548Z
LAST-MODIFIED:20251121T020630Z
UID:5058-1797156000-1797177600@bouldermqg.com
SUMMARY:December 2026 Open Sew
DESCRIPTION:
URL:https://bouldermqg.com/event/december-2026-open-sew/
LOCATION:Sister Carmen Community Center\, 655 Aspen Ridge Ave\, Lafayette\, CO\, 80026\, United States
CATEGORIES:Open Sew
END:VEVENT
END:VCALENDAR